BEGIN:VCALENDAR
VERSION:2.0
PRODID:-//Illinois Obesity Society - ECPv6.15.17.1//NONSGML v1.0//EN
CALSCALE:GREGORIAN
METHOD:PUBLISH
X-WR-CALNAME:Illinois Obesity Society
X-ORIGINAL-URL:https://illinoisobesitysociety.org
X-WR-CALDESC:Events for Illinois Obesity Society
REFRESH-INTERVAL;VALUE=DURATION:PT1H
X-Robots-Tag:noindex
X-PUBLISHED-TTL:PT1H
BEGIN:VTIMEZONE
TZID:America/Chicago
BEGIN:DAYLIGHT
TZOFFSETFROM:-0600
TZOFFSETTO:-0500
TZNAME:CDT
DTSTART:20250309T080000
END:DAYLIGHT
BEGIN:STANDARD
TZOFFSETFROM:-0500
TZOFFSETTO:-0600
TZNAME:CST
DTSTART:20251102T070000
END:STANDARD
BEGIN:DAYLIGHT
TZOFFSETFROM:-0600
TZOFFSETTO:-0500
TZNAME:CDT
DTSTART:20260308T080000
END:DAYLIGHT
BEGIN:STANDARD
TZOFFSETFROM:-0500
TZOFFSETTO:-0600
TZNAME:CST
DTSTART:20261101T070000
END:STANDARD
BEGIN:DAYLIGHT
TZOFFSETFROM:-0600
TZOFFSETTO:-0500
TZNAME:CDT
DTSTART:20270314T080000
END:DAYLIGHT
BEGIN:STANDARD
TZOFFSETFROM:-0500
TZOFFSETTO:-0600
TZNAME:CST
DTSTART:20271107T070000
END:STANDARD
END:VTIMEZONE
BEGIN:VEVENT
DTSTART;TZID=America/Chicago:20260506T180000
DTEND;TZID=America/Chicago:20260506T210000
DTSTAMP:20260422T053049
CREATED:20251111T192349Z
LAST-MODIFIED:20260312T171117Z
UID:24-1778090400-1778101200@illinoisobesitysociety.org
SUMMARY:Spring IOS Meeting in Oak Brook
DESCRIPTION:“Beyond BMI: Screening and Treating Eating Disorders in Higher-Weight Patients in Obesity Care Settings” by Susan McClanahan\, PhD \n6:00pm-9pm (6pm networking\, 7pm presentation) \nRegister now.
URL:https://illinoisobesitysociety.org/event/spring-ios-meeting-in-oak-brook/
LOCATION:Maggiano’s Little Italy – Oak Brook\, 240 Oakbrook Center\, Oak Brook\, IL\, United States
CATEGORIES:IOS meeting
END:VEVENT
BEGIN:VEVENT
DTSTART;TZID=America/Chicago:20260717T080000
DTEND;TZID=America/Chicago:20260717T153000
DTSTAMP:20260422T053049
CREATED:20251112T191732Z
LAST-MODIFIED:20251204T182330Z
UID:100-1784275200-1784302200@illinoisobesitysociety.org
SUMMARY:Chicago Obesity Summit 2026
DESCRIPTION:We invite you to join us for our 7th annual Chicago Obesity Summit. There will be a new panel of speakers in topics covering the various aspects of obesity evaluation and management. \nFor the schedule and registration links:  https://illinoisobesitysociety.org/chicago-obesity-summit \n 
URL:https://illinoisobesitysociety.org/event/chicago-obesity-summit-2026/
LOCATION:University of Chicago Gleacher Center\, 450 Cityfront Plaza Drive\, Chicago\, IL\, 60611\, United States
CATEGORIES:Summit
ATTACH;FMTTYPE=image/jpeg:https://illinoisobesitysociety.org/wp-content/uploads/2025/12/ios-talk.jpg
END:VEVENT
END:VCALENDAR